BEGIN:VCALENDAR
VERSION:2.0
PRODID:https://www.geopark-ries.de/
X-PUBLISHED-TTL:P1D
BEGIN:VEVENT
UID:69e52e142444c
DTSTART:20260726T160000Z
SEQUENCE:0
TRANSP:OPAQUE
DTEND:20260726T180000Z
URL:https://en.geopark-ries.de/veranstaltungen/wo_der_keltenfuerst_hof_hiel
 t-728825-12630451/
LOCATION:frühkeltischer Fürstensitz Ipf - Bopfingen
SUMMARY:Wo der Keltenfürst Hof hielt
DESCRIPTION:Sommerliche Abendwanderung auf den frühkeltischen Fürstensitz
  Ipf
DTSTAMP:20260419T213340Z
END:VEVENT
END:VCALENDAR