BEGIN:VCALENDAR
VERSION:2.0
PRODID:https://www.geopark-ries.de/
X-PUBLISHED-TTL:P1D
BEGIN:VEVENT
UID:69e5171284080
DTSTART:20260425T120000Z
SEQUENCE:0
TRANSP:OPAQUE
DTEND:20260425T140000Z
URL:https://en.geopark-ries.de/veranstaltungen/wo_der_keltenfuerst_hof_hiel
 t-703935-12618713/
LOCATION:frühkeltischer Fürstensitz Ipf - Bopfingen
SUMMARY:Wo der Keltenfürst Hof hielt
DESCRIPTION:Frühlingserwachen am frühkeltischen Fürstensitz Ipf bei Bopf
 ingen - Rieser Kulturtage
DTSTAMP:20260419T195530Z
END:VEVENT
END:VCALENDAR