BEGIN:VCALENDAR
VERSION:2.0
PRODID:https://www.geopark-ries.de/
X-PUBLISHED-TTL:P1D
BEGIN:VEVENT
UID:69e4fc2af13df
DTSTART;VALUE=DATE:20220101
SEQUENCE:0
TRANSP:OPAQUE
DTEND;VALUE=DATE:20280101
URL:https://en.geopark-ries.de/veranstaltungen/wie_einst_die_alten_roemer_r
 oe-201658-12391709/
LOCATION:\"villa rustica\" bei den Ofnethöhlen - Nördlingen
SUMMARY:Wie einst die alten Römer: Römisches Landleben  für Kinder\, Jug
 endliche und Familien
X-MICROSOFT-CDO-ALLDAYEVENT:TRUE
DTSTAMP:20260419T180042Z
END:VEVENT
END:VCALENDAR