BEGIN:VCALENDAR
VERSION:2.0
PRODID:https://www.geopark-ries.de/
X-PUBLISHED-TTL:P1D
BEGIN:VEVENT
UID:69e52e05b3cd6
DTSTART;VALUE=DATE:20220101
SEQUENCE:0
TRANSP:OPAQUE
DTEND;VALUE=DATE:20280101
URL:https://en.geopark-ries.de/veranstaltungen/wandern_und_radeln_mit_geoer
 le-294329-12391671/
LOCATION:- Veranstaltung ohne festen Ort - Geopark Ries
SUMMARY:Wandern und Radeln mit Geoerlebnis
X-MICROSOFT-CDO-ALLDAYEVENT:TRUE
DTSTAMP:20260419T213325Z
END:VEVENT
END:VCALENDAR