BEGIN:VCALENDAR
VERSION:2.0
PRODID:https://www.geopark-ries.de/
X-PUBLISHED-TTL:P1D
BEGIN:VEVENT
UID:69e52e059e62e
DTSTART:20261004T133000Z
SEQUENCE:0
TRANSP:OPAQUE
DTEND:20261004T143000Z
URL:https://en.geopark-ries.de/veranstaltungen/riesgeologie_in_nur_einer_st
 un-530237-12575523/
LOCATION:Parkplatz bei der Tennisanlage Marienhöhe - Nördlingen
SUMMARY:Riesgeologie in nur einer Stunde
DESCRIPTION:auf der Nördlinger Marienhöhe
DTSTAMP:20260419T213325Z
END:VEVENT
END:VCALENDAR