BEGIN:VCALENDAR
VERSION:2.0
PRODID:https://www.geopark-ries.de/
X-PUBLISHED-TTL:P1D
BEGIN:VEVENT
UID:69e52b45a1a89
DTSTART:20260604T120000Z
SEQUENCE:0
TRANSP:OPAQUE
DTEND:20260604T140000Z
URL:https://en.geopark-ries.de/veranstaltungen/riegelbergfuehrung_woche_d_e
 ur-707239-12619551/
LOCATION:Römischer Gutshof Holheim unterhalb der Ofnethöhlen - Nördlinge
 n
SUMMARY:Riegelbergführung (Woche d. europäischen Geoparks)
DESCRIPTION:Natur\, Geschichte und Geologie
DTSTAMP:20260419T212141Z
END:VEVENT
END:VCALENDAR