BEGIN:VCALENDAR
VERSION:2.0
PRODID:https://www.geopark-ries.de/
X-PUBLISHED-TTL:P1D
BEGIN:VEVENT
UID:69e516a3c4edb
DTSTART:20260726T080000Z
SEQUENCE:0
TRANSP:OPAQUE
DTEND:20260726T100000Z
URL:https://en.geopark-ries.de/veranstaltungen/riegelbergfuehrung-707247-12
 619559/
LOCATION:\"villa rustica\" bei den Ofnethöhlen - Nördlingen
SUMMARY:Riegelbergführung
DESCRIPTION:Natur\, Geschichte und Geologie
DTSTAMP:20260419T195339Z
END:VEVENT
END:VCALENDAR