BEGIN:VCALENDAR
VERSION:2.0
PRODID:https://www.geopark-ries.de/
X-PUBLISHED-TTL:P1D
BEGIN:VEVENT
UID:69e52e059e106
DTSTART:20260809T070000Z
SEQUENCE:0
TRANSP:OPAQUE
DTEND:20260809T103000Z
URL:https://en.geopark-ries.de/veranstaltungen/mit_dem_rad_die_schoensten_a
 us-766587-12662939/
LOCATION:Marktplatz - Oettingen i.Bay.
SUMMARY:Mit dem Rad die schönsten Aussichtspunkte im Nordries erleben.
DESCRIPTION:Sportliche Radtour über die Hügelkette des Nordrieses von Hai
 nsfarth bis Maihingen
DTSTAMP:20260419T213325Z
END:VEVENT
END:VCALENDAR