BEGIN:VCALENDAR
VERSION:2.0
PRODID:https://www.geopark-ries.de/
X-PUBLISHED-TTL:P1D
BEGIN:VEVENT
UID:69e4fc2ce19da
DTSTART;VALUE=DATE:20220101
SEQUENCE:0
TRANSP:OPAQUE
DTEND;VALUE=DATE:20280101
URL:https://en.geopark-ries.de/veranstaltungen/kinder_ab_in_die_steinzeit_d
 ie-201612-12359675/
LOCATION:Parkplatz bei der \"Villa Rustica\" - Ederheim
SUMMARY:Kinder – ab in die Steinzeit! Die Welt unserer Vorfahren erleben
X-MICROSOFT-CDO-ALLDAYEVENT:TRUE
DTSTAMP:20260419T180044Z
END:VEVENT
END:VCALENDAR