BEGIN:VCALENDAR
VERSION:2.0
PRODID:https://www.geopark-ries.de/
X-PUBLISHED-TTL:P1D
BEGIN:VEVENT
UID:69e52dfa73346
DTSTART;VALUE=DATE:20220101
SEQUENCE:0
TRANSP:OPAQUE
DTEND;VALUE=DATE:20280101
URL:https://en.geopark-ries.de/veranstaltungen/idyllisches_kartaeusertal_wa
 nd-201530-12391695/
LOCATION:- Veranstaltung ohne festen Ort - Geopark Ries
SUMMARY:Idyllisches Kartäusertal  wandernd erleben
X-MICROSOFT-CDO-ALLDAYEVENT:TRUE
DTSTAMP:20260419T213314Z
END:VEVENT
END:VCALENDAR