BEGIN:VCALENDAR
VERSION:2.0
PRODID:https://www.geopark-ries.de/
X-PUBLISHED-TTL:P1D
BEGIN:VEVENT
UID:69e52ded3fe86
DTSTART;VALUE=DATE:20220101
SEQUENCE:0
TRANSP:OPAQUE
DTEND;VALUE=DATE:20280101
URL:https://en.geopark-ries.de/veranstaltungen/geotour_im_westries_schotter
 gr-201588-12391663/
LOCATION:Parkbucht oberhalb Schottergrube\, Unterwilflingen - Unterschneidh
 eim
SUMMARY:Geotour im Westries: Schottergrube bei  Unterwilflingen und Wallers
 teiner Felsen
X-MICROSOFT-CDO-ALLDAYEVENT:TRUE
DTSTAMP:20260419T213301Z
END:VEVENT
END:VCALENDAR