BEGIN:VCALENDAR
VERSION:2.0
PRODID:https://www.geopark-ries.de/
X-PUBLISHED-TTL:P1D
BEGIN:VEVENT
UID:69e517023fc07
DTSTART:20260530T120000Z
SEQUENCE:0
TRANSP:OPAQUE
DTEND:20260530T140000Z
URL:https://en.geopark-ries.de/veranstaltungen/geotope_kuehstein_moenchsdeg
 gi-707237-12619549/
LOCATION:Parkplatz Almarinstraße - Mönchsdeggingen
SUMMARY:Geotope Kühstein\, Mönchsdeggingen (Woche d. europäischen Geopar
 ks)
DTSTAMP:20260419T195514Z
END:VEVENT
END:VCALENDAR