BEGIN:VCALENDAR
VERSION:2.0
PRODID:https://www.geopark-ries.de/
X-PUBLISHED-TTL:P1D
BEGIN:VEVENT
UID:69e52e059f057
DTSTART:20260712T120000Z
SEQUENCE:0
TRANSP:OPAQUE
DTEND:20260712T150000Z
URL:https://en.geopark-ries.de/veranstaltungen/georadeln_im_suedwestlichen_
 ri-707241-12619553/
LOCATION:Berger Tor - Nördlingen
SUMMARY:Georadeln im südwestlichen Ries
DESCRIPTION:Radtour für jedermann mit Schwerpunkt Geo-Themen
DTSTAMP:20260419T213325Z
END:VEVENT
END:VCALENDAR