BEGIN:VCALENDAR
VERSION:2.0
PRODID:https://www.geopark-ries.de/
X-PUBLISHED-TTL:P1D
BEGIN:VEVENT
UID:69e516b9c85ff
DTSTART;VALUE=DATE:20220101
SEQUENCE:0
TRANSP:OPAQUE
DTEND;VALUE=DATE:20280101
URL:https://en.geopark-ries.de/veranstaltungen/geopark_laufend_erleben-2015
 28-12391683/
LOCATION:- Veranstaltung ohne festen Ort - Geopark Ries
SUMMARY:Geopark laufend erleben
X-MICROSOFT-CDO-ALLDAYEVENT:TRUE
DTSTAMP:20260419T195401Z
END:VEVENT
END:VCALENDAR