BEGIN:VCALENDAR
VERSION:2.0
PRODID:https://www.geopark-ries.de/
X-PUBLISHED-TTL:P1D
BEGIN:VEVENT
UID:69e4fc203f792
DTSTART;VALUE=DATE:20220101
SEQUENCE:0
TRANSP:OPAQUE
DTEND;VALUE=DATE:20280101
URL:https://en.geopark-ries.de/veranstaltungen/geologische_entdeckertour-20
 1432-12391673/
LOCATION:- Veranstaltung ohne festen Ort - Geopark Ries
SUMMARY:Geologische Entdeckertour
DESCRIPTION:im Meteoritenkrater Ries
X-MICROSOFT-CDO-ALLDAYEVENT:TRUE
DTSTAMP:20260419T180032Z
END:VEVENT
END:VCALENDAR