BEGIN:VCALENDAR
VERSION:2.0
PRODID:https://www.geopark-ries.de/
X-PUBLISHED-TTL:P1D
BEGIN:VEVENT
UID:69e547a611cb3
DTSTART;VALUE=DATE:20220101
SEQUENCE:0
TRANSP:OPAQUE
DTEND;VALUE=DATE:20280101
URL:https://en.geopark-ries.de/veranstaltungen/geologie_von_ammonit-verstei
 ne-201570-12391701/
LOCATION:- Veranstaltung ohne festen Ort - Geopark Ries
SUMMARY:Geologie von Ammonit-Versteinerung  bis Zentralkrater
X-MICROSOFT-CDO-ALLDAYEVENT:TRUE
DTSTAMP:20260419T232246Z
END:VEVENT
END:VCALENDAR