BEGIN:VCALENDAR
VERSION:2.0
PRODID:https://www.geopark-ries.de/
X-PUBLISHED-TTL:P1D
BEGIN:VEVENT
UID:69e516b9ddc28
DTSTART:20260419T120000Z
SEQUENCE:0
TRANSP:OPAQUE
DTEND:20260419T143000Z
URL:https://en.geopark-ries.de/veranstaltungen/fuehrung_rund_um_den_lehmber
 g-661471-12587369/
LOCATION:- Veranstaltung ohne festen Ort - Huisheim
SUMMARY:Führung rund um den Lehmberg (entfällt)
DTSTAMP:20260419T195401Z
END:VEVENT
END:VCALENDAR