BEGIN:VCALENDAR
VERSION:2.0
PRODID:https://www.geopark-ries.de/
X-PUBLISHED-TTL:P1D
BEGIN:VEVENT
UID:69e52af7b2752
DTSTART;VALUE=DATE:20260101
SEQUENCE:0
TRANSP:OPAQUE
DTEND;VALUE=DATE:20290101
URL:https://en.geopark-ries.de/veranstaltungen/exkursion_ins_kohlenbachtal-
 752147-12655809/
LOCATION:- Veranstaltung ohne festen Ort - Huisheim
SUMMARY:Exkursion ins Kohlenbachtal
DESCRIPTION:Ein Naturerlebnis der beonderen Art.
X-MICROSOFT-CDO-ALLDAYEVENT:TRUE
DTSTAMP:20260419T212023Z
END:VEVENT
END:VCALENDAR