BEGIN:VCALENDAR
VERSION:2.0
PRODID:https://www.geopark-ries.de/
X-PUBLISHED-TTL:P1D
BEGIN:VEVENT
UID:69e516bb16b58
DTSTART:20260502T120000Z
SEQUENCE:0
TRANSP:OPAQUE
DTEND:20260502T143000Z
URL:https://en.geopark-ries.de/veranstaltungen/exkursion_am_kalvarienberg_h
 ui-661473-12587371/
LOCATION:- Veranstaltung ohne festen Ort - Huisheim
SUMMARY:Exkursion am Kalvarienberg Huisheim-Gosheim
DTSTAMP:20260419T195403Z
END:VEVENT
END:VCALENDAR