BEGIN:VCALENDAR
VERSION:2.0
PRODID:https://www.geopark-ries.de/
X-PUBLISHED-TTL:P1D
BEGIN:VEVENT
UID:69e51711012e4
DTSTART:20260628T080000Z
SEQUENCE:0
TRANSP:OPAQUE
DTEND:20260628T100000Z
URL:https://en.geopark-ries.de/veranstaltungen/erlebnis-geotop_lindle_tag_d
 er-707245-12619557/
LOCATION:Erlebnis-Geotop Lindle - Nördlingen
SUMMARY:Erlebnis-Geotop Lindle (Tag der Asteroiden)
DTSTAMP:20260419T195529Z
END:VEVENT
END:VCALENDAR