BEGIN:VCALENDAR
VERSION:2.0
PRODID:https://www.geopark-ries.de/
X-PUBLISHED-TTL:P1D
BEGIN:VEVENT
UID:69e516eff3408
DTSTART;VALUE=DATE:20220101
SEQUENCE:0
TRANSP:OPAQUE
DTEND;VALUE=DATE:20280101
URL:https://en.geopark-ries.de/veranstaltungen/die_steinharte_tour_mit_dem_
 ra-201576-12391703/
LOCATION:- Veranstaltung ohne festen Ort - Nördlingen
SUMMARY:Die steinharte Tour:  Mit dem Rad zu den seltensten Steinen der Wel
 t
X-MICROSOFT-CDO-ALLDAYEVENT:TRUE
DTSTAMP:20260419T195456Z
END:VEVENT
END:VCALENDAR