BEGIN:VCALENDAR
VERSION:2.0
PRODID:https://www.geopark-ries.de/
X-PUBLISHED-TTL:P1D
BEGIN:VEVENT
UID:69e52e067fa1e
DTSTART:20260926T120000Z
SEQUENCE:0
TRANSP:OPAQUE
DTEND:20260926T140000Z
URL:https://en.geopark-ries.de/veranstaltungen/die_ruine_flochberg_ritter_b
 ur-741605-12643867/
LOCATION:Ruine Flochberg - Bopfingen
SUMMARY:Die Ruine Flochberg Ritter\, Burgen und das Ries
DESCRIPTION:Geschichte und Geschichten
DTSTAMP:20260419T213326Z
END:VEVENT
END:VCALENDAR