BEGIN:VCALENDAR
VERSION:2.0
PRODID:https://www.geopark-ries.de/
X-PUBLISHED-TTL:P1D
BEGIN:VEVENT
UID:69e5168b4794c
DTSTART;VALUE=DATE:20220101
SEQUENCE:0
TRANSP:OPAQUE
DTEND;VALUE=DATE:20280101
URL:https://en.geopark-ries.de/veranstaltungen/die_roemer_im_ries-201652-12
 391667/
LOCATION:- Veranstaltung ohne festen Ort - Geopark Ries
SUMMARY:Die Römer im Ries
X-MICROSOFT-CDO-ALLDAYEVENT:TRUE
DTSTAMP:20260419T195315Z
END:VEVENT
END:VCALENDAR