BEGIN:VCALENDAR
VERSION:2.0
PRODID:https://www.geopark-ries.de/
X-PUBLISHED-TTL:P1D
BEGIN:VEVENT
UID:69e52b367587d
DTSTART:20260906T120000Z
SEQUENCE:0
TRANSP:OPAQUE
DTEND:20260906T153000Z
URL:https://en.geopark-ries.de/veranstaltungen/die_apollo14-astronauten_im_
 ri-661483-12587387/
LOCATION:- Veranstaltung ohne festen Ort - Huisheim
SUMMARY:Die Apollo14-Astronauten im Ries
DESCRIPTION:In einer Autoexkursion den \"Ries-Astronauten\" auf der Spur
DTSTAMP:20260419T212126Z
END:VEVENT
END:VCALENDAR