BEGIN:VCALENDAR
VERSION:2.0
PRODID:https://www.geopark-ries.de/
X-PUBLISHED-TTL:P1D
BEGIN:VEVENT
UID:69e4fc2a89c04
DTSTART;VALUE=DATE:20230101
SEQUENCE:0
TRANSP:OPAQUE
DTEND;VALUE=DATE:20290101
URL:https://en.geopark-ries.de/veranstaltungen/der_schaeferweg_geologie_his
 to-202692-12528123/
LOCATION:- Veranstaltung ohne festen Ort - Nördlingen
SUMMARY:Der Schäferweg: Geologie\, Historie  und Pflanzenwelt auf Schritt 
 und Tritt
X-MICROSOFT-CDO-ALLDAYEVENT:TRUE
DTSTAMP:20260419T180042Z
END:VEVENT
END:VCALENDAR