BEGIN:VCALENDAR
VERSION:2.0
PRODID:https://www.geopark-ries.de/
X-PUBLISHED-TTL:P1D
BEGIN:VEVENT
UID:69e51710834c8
DTSTART:20260603T120000Z
SEQUENCE:0
TRANSP:OPAQUE
DTEND:20260603T160000Z
URL:https://en.geopark-ries.de/veranstaltungen/der_knall_vom_all_kinderfueh
 ru-735893-12638621/
LOCATION:Erlebnis-Geotop Lindle - Nördlingen
SUMMARY:\"Der Knall vom All\": Kinderführung im Erlebnis-Geotop Lindle
DTSTAMP:20260419T195528Z
END:VEVENT
END:VCALENDAR