BEGIN:VCALENDAR
VERSION:2.0
PRODID:https://www.geopark-ries.de/
X-PUBLISHED-TTL:P1D
BEGIN:VEVENT
UID:69e52ded41df1
DTSTART:20260822T120000Z
SEQUENCE:0
TRANSP:OPAQUE
DTEND:20260822T140000Z
URL:https://en.geopark-ries.de/veranstaltungen/der_ipf-ein_naturdenkmal_mit
 _b-741607-12643871/
LOCATION:Ipf - Bopfingen
SUMMARY:Der Ipf - ein Naturdenkmal mit besonderer Ausstrahlung
DTSTAMP:20260419T213301Z
END:VEVENT
END:VCALENDAR