BEGIN:VCALENDAR
VERSION:2.0
PRODID:https://www.geopark-ries.de/
X-PUBLISHED-TTL:P1D
BEGIN:VEVENT
UID:69e547a4b35cd
DTSTART:20260920T080000Z
SEQUENCE:0
TRANSP:OPAQUE
DTEND:20260920T100000Z
URL:https://en.geopark-ries.de/veranstaltungen/dem_meteoriten_auf_der_spur_
 ta-707243-12619555/
LOCATION:Festplatz - Oettingen i.Bay.
SUMMARY:Dem Meteoriten auf der Spur (Tag des Geotops)
DESCRIPTION:(PKW-Exkursion)
DTSTAMP:20260419T232244Z
END:VEVENT
END:VCALENDAR