BEGIN:VCALENDAR
VERSION:2.0
PRODID:https://www.geopark-ries.de/
X-PUBLISHED-TTL:P1D
BEGIN:VEVENT
UID:69e516a435922
DTSTART;VALUE=DATE:20220101
SEQUENCE:0
TRANSP:OPAQUE
DTEND;VALUE=DATE:20280101
URL:https://en.geopark-ries.de/veranstaltungen/das_ries_ein_fahrradies-2015
 48-12391697/
LOCATION:- Veranstaltung ohne festen Ort - Geopark Ries
SUMMARY:Das Ries – ein „Fahrradies”
X-MICROSOFT-CDO-ALLDAYEVENT:TRUE
DTSTAMP:20260419T195340Z
END:VEVENT
END:VCALENDAR