BEGIN:VCALENDAR
VERSION:2.0
PRODID:https://www.geopark-ries.de/
X-PUBLISHED-TTL:P1D
BEGIN:VEVENT
UID:69e4fc212b2f4
DTSTART;VALUE=DATE:20220101
SEQUENCE:0
TRANSP:OPAQUE
DTEND;VALUE=DATE:20280101
URL:https://en.geopark-ries.de/veranstaltungen/agrikultour-201448-12391675/
LOCATION:- Veranstaltung ohne festen Ort - Geopark Ries
SUMMARY:AgrikulTour
DESCRIPTION:Auf Erkundungstour durch eine Ackerflur
X-MICROSOFT-CDO-ALLDAYEVENT:TRUE
DTSTAMP:20260419T180033Z
END:VEVENT
END:VCALENDAR